BEGIN:VCALENDAR
VERSION:2.0
PRODID:-//Weltwirtschaft Restaurant, Biergarten und Kiosk der Haus der Kulturen der Welt. - ECPv6.15.20//NONSGML v1.0//EN
CALSCALE:GREGORIAN
METHOD:PUBLISH
X-WR-CALNAME:Weltwirtschaft Restaurant, Biergarten und Kiosk der Haus der Kulturen der Welt.
X-ORIGINAL-URL:https://weltwirtschaft.berlin
X-WR-CALDESC:Veranstaltungen für Weltwirtschaft Restaurant, Biergarten und Kiosk der Haus der Kulturen der Welt.
REFRESH-INTERVAL;VALUE=DURATION:PT1H
X-Robots-Tag:noindex
X-PUBLISHED-TTL:PT1H
BEGIN:VTIMEZONE
TZID:UTC
BEGIN:STANDARD
TZOFFSETFROM:+0000
TZOFFSETTO:+0000
TZNAME:UTC
DTSTART:20220101T000000
END:STANDARD
END:VTIMEZONE
BEGIN:VEVENT
DTSTART;TZID=UTC:20230715T220000
DTEND;TZID=UTC:20230715T220000
DTSTAMP:20260425T005916
CREATED:20230516T182502Z
LAST-MODIFIED:20230711T161123Z
UID:2741-1689458400-1689458400@weltwirtschaft.berlin
SUMMARY:DJ Set: Daytimers Showcase | DJ Ritu b2b Chandé | Guedra Guedra | Disco Vumbi
DESCRIPTION:+++ Start: 22:00 +++ Restaurant +++ free entry +++
URL:https://weltwirtschaft.berlin/event/dj-set-n-n-sonic-pluriverse-festival/
END:VEVENT
END:VCALENDAR