BEGIN:VCALENDAR
VERSION:2.0
PRODID:-//Weltwirtschaft Restaurant, Biergarten und Kiosk der Haus der Kulturen der Welt. - ECPv6.15.20//NONSGML v1.0//EN
CALSCALE:GREGORIAN
METHOD:PUBLISH
X-WR-CALNAME:Weltwirtschaft Restaurant, Biergarten und Kiosk der Haus der Kulturen der Welt.
X-ORIGINAL-URL:https://weltwirtschaft.berlin
X-WR-CALDESC:Veranstaltungen für Weltwirtschaft Restaurant, Biergarten und Kiosk der Haus der Kulturen der Welt.
REFRESH-INTERVAL;VALUE=DURATION:PT1H
X-Robots-Tag:noindex
X-PUBLISHED-TTL:PT1H
BEGIN:VTIMEZONE
TZID:UTC
BEGIN:STANDARD
TZOFFSETFROM:+0000
TZOFFSETTO:+0000
TZNAME:UTC
DTSTART:20220101T000000
END:STANDARD
END:VTIMEZONE
BEGIN:VEVENT
DTSTART;TZID=UTC:20230826T220000
DTEND;TZID=UTC:20230827T010000
DTSTAMP:20260421T225201
CREATED:20230825T031620Z
LAST-MODIFIED:20230825T032358Z
UID:3304-1693087200-1693098000@weltwirtschaft.berlin
SUMMARY:DJ SET: ARN4L2
DESCRIPTION:22:00- 1:00 ++ Eintritt frei ++ Restaurant \n  \nLange Nacht der Museen am HKW mit einem Sonderprogramm mit Musik\, unerwarteten Begegnungen und einer nächtlichen Schule. Bei uns im Restaurant legt ARN4L2 auf. Mehr Informationen
URL:https://weltwirtschaft.berlin/event/dj-set-arn4l2/
END:VEVENT
END:VCALENDAR