BEGIN:VCALENDAR
VERSION:2.0
PRODID:-//Weltwirtschaft Restaurant, Biergarten und Kiosk der Haus der Kulturen der Welt. - ECPv6.15.20//NONSGML v1.0//EN
CALSCALE:GREGORIAN
METHOD:PUBLISH
X-WR-CALNAME:Weltwirtschaft Restaurant, Biergarten und Kiosk der Haus der Kulturen der Welt.
X-ORIGINAL-URL:https://weltwirtschaft.berlin
X-WR-CALDESC:Veranstaltungen für Weltwirtschaft Restaurant, Biergarten und Kiosk der Haus der Kulturen der Welt.
REFRESH-INTERVAL;VALUE=DURATION:PT1H
X-Robots-Tag:noindex
X-PUBLISHED-TTL:PT1H
BEGIN:VTIMEZONE
TZID:UTC
BEGIN:STANDARD
TZOFFSETFROM:+0000
TZOFFSETTO:+0000
TZNAME:UTC
DTSTART:20220101T000000
END:STANDARD
END:VTIMEZONE
BEGIN:VEVENT
DTSTART;TZID=UTC:20231104T190000
DTEND;TZID=UTC:20231105T010000
DTSTAMP:20260421T175118
CREATED:20231023T124917Z
LAST-MODIFIED:20231029T080127Z
UID:3633-1699124400-1699146000@weltwirtschaft.berlin
SUMMARY:UNA SERATA ECCECIONALE | mit dem Adriano Celentano Gebäckorchester & DJ Annika Line Trost (Tanzhalle radioeins)
DESCRIPTION:Vergesst für einen Moment den Herbst und freut euch mit uns auf Una Serata Eccecionale – einen außergewöhnlich tollen Abend mit: \nAperitivi\, Pizza\, Dolce und Frizzante unter musikalischer Begleitung des Adriano Celentano Gebäckorchesters. Beim anschließenden Danza Delle Oyster fischt Annika Line Trost Tanzhallenperlen – zick-zack und kreuz und quer aus den Genres\, Styles und Jahrzehnten. Tanzt zu New Wave\, Indie\, Alternative\, Punk n Roll\, lustigen Nineties-Grooves\, Oldschool Rap\, Electro Clash\, Sixties-Styles\, Soul\, Rock n Roll\, Disco und vielem Tollen mehr! \nSichert euch jetzt einen Tisch für die Sause – Einlass ist um 19:00. \nIm Vorverkauf sind die Tickets etwas günstiger – hier bestellen.\nDas Gebäckorchester spielt ab 20:00.\nAnnika Line Trost & Crew übernehmen ab 22:30 \nCi vediamo!
URL:https://weltwirtschaft.berlin/event/una-serata-eccecionale-mit-dem-adriano-celentano-gebaeckorchester-danza-delle-oyster/
END:VEVENT
END:VCALENDAR