BEGIN:VCALENDAR
VERSION:2.0
PRODID:-//Weltwirtschaft Restaurant, Biergarten und Kiosk der Haus der Kulturen der Welt. - ECPv6.15.20//NONSGML v1.0//EN
CALSCALE:GREGORIAN
METHOD:PUBLISH
X-ORIGINAL-URL:https://weltwirtschaft.berlin
X-WR-CALDESC:Veranstaltungen für Weltwirtschaft Restaurant, Biergarten und Kiosk der Haus der Kulturen der Welt.
REFRESH-INTERVAL;VALUE=DURATION:PT1H
X-Robots-Tag:noindex
X-PUBLISHED-TTL:PT1H
BEGIN:VTIMEZONE
TZID:UTC
BEGIN:STANDARD
TZOFFSETFROM:+0000
TZOFFSETTO:+0000
TZNAME:UTC
DTSTART:20220101T000000
END:STANDARD
END:VTIMEZONE
BEGIN:VEVENT
DTSTART;TZID=UTC:20231115T120000
DTEND;TZID=UTC:20231115T180000
DTSTAMP:20260421T175838
CREATED:20231112T192636Z
LAST-MODIFIED:20231112T192636Z
UID:3753-1700049600-1700071200@weltwirtschaft.berlin
SUMMARY:Snacks & Drinks an der Bar im Foyer des HKW
DESCRIPTION:Aufgrund einer Veranstaltung ist unser Restaurant geschlossen. \nStattdessen haben wir die Bar im Foyer des HKW geöffnet. Dort erhaltet Ihr Getränke und Snacks.\nAls Lunchangebot gibt es georgische Chatschapuri.
URL:https://weltwirtschaft.berlin/event/snacks-drinks-an-der-bar-im-foyer-des-hkw/
END:VEVENT
END:VCALENDAR