BEGIN:VCALENDAR
VERSION:2.0
PRODID:-//Weltwirtschaft Restaurant, Biergarten und Kiosk der Haus der Kulturen der Welt. - ECPv6.15.20//NONSGML v1.0//EN
CALSCALE:GREGORIAN
METHOD:PUBLISH
X-ORIGINAL-URL:https://weltwirtschaft.berlin
X-WR-CALDESC:Veranstaltungen für Weltwirtschaft Restaurant, Biergarten und Kiosk der Haus der Kulturen der Welt.
REFRESH-INTERVAL;VALUE=DURATION:PT1H
X-Robots-Tag:noindex
X-PUBLISHED-TTL:PT1H
BEGIN:VTIMEZONE
TZID:UTC
BEGIN:STANDARD
TZOFFSETFROM:+0000
TZOFFSETTO:+0000
TZNAME:UTC
DTSTART:20220101T000000
END:STANDARD
END:VTIMEZONE
BEGIN:VEVENT
DTSTART;TZID=UTC:20231118T183000
DTEND;TZID=UTC:20231118T220000
DTSTAMP:20260421T175701
CREATED:20231006T095957Z
LAST-MODIFIED:20231115T215642Z
UID:3502-1700332200-1700344800@weltwirtschaft.berlin
SUMMARY:NEXT CHEF | Sioux Chef Sean Sherman
DESCRIPTION:Der nächste Gastkoch kommt zu uns zu Besuch! Sean Sherman\, der Sioux Chef\, inspiriert uns und unsere Gäste zur Native American Cuisine. \nEr kocht bei uns im Rahmen der Veranstaltungsreihe ‚Tongue and Throat Memories‘ des Haus‘ der Kulturen der Welt. Vorher präsentiert er im HKW sein Buch ‚Der Sioux-Chef‘\, die deutsche Übersetzung des bekannten Kochbuchs ‚The Sioux Chef’s Indigenous Kitchen‘\, das er zusammen mit Beth Dooley geschrieben hat. \nDer Abend ist bereits komplett ausgebucht. Ihr könnt Chef Sean Sherman aber auch am Vorabend\, den 17. November bei der Vorstellung der Übersetzung seines Kochbuchs erleben. \n 
URL:https://weltwirtschaft.berlin/event/next-chef-sioux-chef-sean-sherman/
END:VEVENT
END:VCALENDAR