BEGIN:VCALENDAR
VERSION:2.0
PRODID:-//Weltwirtschaft Restaurant, Biergarten und Kiosk der Haus der Kulturen der Welt. - ECPv6.15.20//NONSGML v1.0//EN
CALSCALE:GREGORIAN
METHOD:PUBLISH
X-WR-CALNAME:Weltwirtschaft Restaurant, Biergarten und Kiosk der Haus der Kulturen der Welt.
X-ORIGINAL-URL:https://weltwirtschaft.berlin
X-WR-CALDESC:Veranstaltungen für Weltwirtschaft Restaurant, Biergarten und Kiosk der Haus der Kulturen der Welt.
REFRESH-INTERVAL;VALUE=DURATION:PT1H
X-Robots-Tag:noindex
X-PUBLISHED-TTL:PT1H
BEGIN:VTIMEZONE
TZID:UTC
BEGIN:STANDARD
TZOFFSETFROM:+0000
TZOFFSETTO:+0000
TZNAME:UTC
DTSTART:20220101T000000
END:STANDARD
END:VTIMEZONE
BEGIN:VEVENT
DTSTART;TZID=UTC:20231124T210000
DTEND;TZID=UTC:20231125T010000
DTSTAMP:20260421T175204
CREATED:20231123T150005Z
LAST-MODIFIED:20231123T150005Z
UID:3794-1700859600-1700874000@weltwirtschaft.berlin
SUMMARY:AFTER CONCERT DJ SET · Tobias Rapp & Bass Dee
DESCRIPTION:Kommt im Anschluss an das Konzert von Angelique Kidjo im HKW zu uns in die Weltwirtschaft und nutzt den Schwung für ein tanzbares DJ Set von Tobias Rapp & Bass Dee. \nEintritt frei!
URL:https://weltwirtschaft.berlin/event/after-concert-dj-set-%c2%b7-tobias-rapp-bass-dee/
END:VEVENT
END:VCALENDAR