BEGIN:VCALENDAR
VERSION:2.0
PRODID:-//Weltwirtschaft Restaurant, Biergarten und Kiosk der Haus der Kulturen der Welt. - ECPv6.15.20//NONSGML v1.0//EN
CALSCALE:GREGORIAN
METHOD:PUBLISH
X-ORIGINAL-URL:https://weltwirtschaft.berlin
X-WR-CALDESC:Veranstaltungen für Weltwirtschaft Restaurant, Biergarten und Kiosk der Haus der Kulturen der Welt.
REFRESH-INTERVAL;VALUE=DURATION:PT1H
X-Robots-Tag:noindex
X-PUBLISHED-TTL:PT1H
BEGIN:VTIMEZONE
TZID:UTC
BEGIN:STANDARD
TZOFFSETFROM:+0000
TZOFFSETTO:+0000
TZNAME:UTC
DTSTART:20220101T000000
END:STANDARD
END:VTIMEZONE
BEGIN:VEVENT
DTSTART;TZID=UTC:20231202T220000
DTEND;TZID=UTC:20231203T010000
DTSTAMP:20260421T162515
CREATED:20231119T203305Z
LAST-MODIFIED:20231119T221816Z
UID:3784-1701554400-1701565200@weltwirtschaft.berlin
SUMMARY:DANCE THE OYSTER mit Annika Line Trost
DESCRIPTION:Im Anschluss an Ihre Radiosendung Tanzhalle legt Annika Line Trost wieder bei uns auf! Freut euch auf Tanzbares\, kreuz und quer durch alle Genres und Zeiten (kleiner Rückblick hier). \nWir nehmen an dem Abend Dinner-Reservierungen bis 20:45 an. Unsere Gäste zahlen keinen Eintritt.\nAlle\, die sich zuhause mit der Tanzhalle aufgewärmt haben\, können sich für 8.- €  in das Samstagnacht-Fieber werfen.\n 
URL:https://weltwirtschaft.berlin/event/dance-the-oyster-mit-annika-line-trost/
END:VEVENT
END:VCALENDAR