BEGIN:VCALENDAR
VERSION:2.0
PRODID:-//Weltwirtschaft Restaurant, Biergarten und Kiosk der Haus der Kulturen der Welt. - ECPv6.15.20//NONSGML v1.0//EN
CALSCALE:GREGORIAN
METHOD:PUBLISH
X-ORIGINAL-URL:https://weltwirtschaft.berlin
X-WR-CALDESC:Veranstaltungen für Weltwirtschaft Restaurant, Biergarten und Kiosk der Haus der Kulturen der Welt.
REFRESH-INTERVAL;VALUE=DURATION:PT1H
X-Robots-Tag:noindex
X-PUBLISHED-TTL:PT1H
BEGIN:VTIMEZONE
TZID:UTC
BEGIN:STANDARD
TZOFFSETFROM:+0000
TZOFFSETTO:+0000
TZNAME:UTC
DTSTART:20230101T000000
END:STANDARD
END:VTIMEZONE
BEGIN:VEVENT
DTSTART;VALUE=DATE:20240309
DTEND;VALUE=DATE:20240311
DTSTAMP:20260420T011301
CREATED:20240307T155225Z
LAST-MODIFIED:20240307T155225Z
UID:4338-1709942400-1710115199@weltwirtschaft.berlin
SUMMARY:Drinks\, Kaffee\, Kuchen & Snacks auf der Terrasse
DESCRIPTION:Wir haben über das lange Wochenende auf der Terrasse eine kleine\, feine Kaffeebar geöffnet.\nGenießt Kaffee\, Kuchen und Snacks in der Frühlingssonne.
URL:https://weltwirtschaft.berlin/event/drinks-kaffee-kuchen-snacks-auf-der-terrasse/
END:VEVENT
END:VCALENDAR