BEGIN:VCALENDAR
VERSION:2.0
PRODID:-//Weltwirtschaft Restaurant, Biergarten und Kiosk der Haus der Kulturen der Welt. - ECPv6.15.20//NONSGML v1.0//EN
CALSCALE:GREGORIAN
METHOD:PUBLISH
X-WR-CALNAME:Weltwirtschaft Restaurant, Biergarten und Kiosk der Haus der Kulturen der Welt.
X-ORIGINAL-URL:https://weltwirtschaft.berlin
X-WR-CALDESC:Veranstaltungen für Weltwirtschaft Restaurant, Biergarten und Kiosk der Haus der Kulturen der Welt.
REFRESH-INTERVAL;VALUE=DURATION:PT1H
X-Robots-Tag:noindex
X-PUBLISHED-TTL:PT1H
BEGIN:VTIMEZONE
TZID:UTC
BEGIN:STANDARD
TZOFFSETFROM:+0000
TZOFFSETTO:+0000
TZNAME:UTC
DTSTART:20220101T000000
END:STANDARD
END:VTIMEZONE
BEGIN:VEVENT
DTSTART;TZID=UTC:20230831T080000
DTEND;TZID=UTC:20230901T180000
DTSTAMP:20260421T194748
CREATED:20230825T033454Z
LAST-MODIFIED:20230825T033823Z
UID:3311-1693468800-1693591200@weltwirtschaft.berlin
SUMMARY:Balance Festival
DESCRIPTION:Work · Life · Balance – Professionals aus Unternehmen\, Founder\, Coaches\, Journalist:innen\, Künstler:innen\, Wissenschaftler:innen erkunden an zwei Tagen in unseren Räumen\, wie es gelingt\, in Balance zu bleiben. Tickets & Programm \nTeile des Biergartens sind für alle offen\, im Restaurant kann am 1. September ab 18:00 wieder reserviert werden.\nDen Lunch gibt es an beiden Tagen als Self-Service.
URL:https://weltwirtschaft.berlin/event/balance-festival/
END:VEVENT
BEGIN:VEVENT
DTSTART;TZID=UTC:20230914T220000
DTEND;TZID=UTC:20230915T220000
DTSTAMP:20260421T194748
CREATED:20230913T221038Z
LAST-MODIFIED:20230913T222351Z
UID:3379-1694728800-1694815200@weltwirtschaft.berlin
SUMMARY:public club | FOREWARD OPENING PARTY
DESCRIPTION:Das Forward Festival ist am 14. & 15. September zu Gast im HKW. Freut Euch zum Abschluss des ersten Tages auf eine vibrierende Clubnacht bei uns. Telekom Electronic Beats\, eine international führende Musik- und Kulturvermarktungsplattform bringen ihr kollaboratives und sorgfältig kuratiertes Konzept zurück – den public club. Ein exquisites Lineup unter weiblicher Leitung repräsentiert die ganze Bandbreite von House und Techno. Schnallt euch an für die erste Clubnacht des Festivals.\nDas Lineup verspricht massive Sets von Boiler Room-Host und dem renommierten Produzenten Kikelomo sowie CVL\, die mit ihrem Set bei HÖR Berlin für Furore sorgte. Zum Abschluss des abwechslungsreichen Abends wird die Muse LOVEFOXY von Panorama Bar Banger Nights ihre ausgewählten Platten auflegen und ein Set voller 90er-House-Flair bieten. \nhttps://soundcloud.com/kikelomooo \nhttps://soundcloud.com/cvl069 \nhttps://soundcloud.com/foxy-love-1
URL:https://weltwirtschaft.berlin/event/public-club-forward-festival-opening-party-by-telekom-electronic-beats/
END:VEVENT
BEGIN:VEVENT
DTSTART;TZID=UTC:20230915T220000
DTEND;TZID=UTC:20230916T220000
DTSTAMP:20260421T194748
CREATED:20230913T222404Z
LAST-MODIFIED:20230913T222949Z
UID:3388-1694815200-1694901600@weltwirtschaft.berlin
SUMMARY:CLOSING PARTY | FORWARD FESTIVAL
DESCRIPTION:Die Abschlussparty des Forward Festival Berlin ist für alle offen\, also seid nicht schüchtern\, bringt eure Freunde mit und trinkt ein paar Bier mit uns. \nMacht euch bereit für ein bombastisches Line-up. \n22:00 – 00:00 @jens_mille\n00:00 – 02:00 @yoc_california⁠\n02:00 – 04:00 @robertdietz⁠\n⁠
URL:https://weltwirtschaft.berlin/event/closing-party-forward-festival/
END:VEVENT
BEGIN:VEVENT
DTSTART;TZID=UTC:20230916T220000
DTEND;TZID=UTC:20230917T220000
DTSTAMP:20260421T194748
CREATED:20230913T223412Z
LAST-MODIFIED:20230913T223918Z
UID:3394-1694901600-1694988000@weltwirtschaft.berlin
SUMMARY:DJ-SET: Edna Martinez
DESCRIPTION:Im Rahmen der Berlin Art Week hat das HKW längere Öffnungszeiten. Nachdem dort die Tore schließen\, könnt ihr bei uns  ‚O Quilombismo‘ noch nachklingen lassen oder weiterführen. \nAn den Turntables legt Edna Martinez auf. Ihre Sets erzählen von der musikalischen Reise zwischen Afrika\, der Karibik und der Levante\, insbesondere von den Klängen der cultura picotera aus der kolumbianischen Karibik\, wo sie aufgewachsen ist.
URL:https://weltwirtschaft.berlin/event/dj-set-edna-martinez/
END:VEVENT
BEGIN:VEVENT
DTSTART;TZID=UTC:20230922T210000
DTEND;TZID=UTC:20230923T020000
DTSTAMP:20260421T194748
CREATED:20230917T174010Z
LAST-MODIFIED:20230917T174010Z
UID:3402-1695416400-1695434400@weltwirtschaft.berlin
SUMMARY:MISS READ Opening party | DJs Minatha & Denya Denya
DESCRIPTION:DJs Minatha & Denya Denya legen bei uns anlässlich der Eröffnungsparty der MISS READ auf. \nVom 22. -24. September ist im Haus der Kulturen der Welt die MISS READ: THE BERLIN ART BOOK FESTIVAL & FAIR\nmit mehr als 340 Ausstellern aus 55 Ländern.
URL:https://weltwirtschaft.berlin/event/miss-read-opening-party-djs-minatha-denya-denya/
END:VEVENT
BEGIN:VEVENT
DTSTART;TZID=UTC:20230923T220000
DTEND;TZID=UTC:20230924T020000
DTSTAMP:20260421T194748
CREATED:20230917T175917Z
LAST-MODIFIED:20230917T175917Z
UID:3405-1695506400-1695520800@weltwirtschaft.berlin
SUMMARY:Dance the Oyster | Tanzhalle in der Weltwirtschaft
DESCRIPTION:Im Anschluss an Ihre Radiosendung Tanzhalle legt Annika Line Trost bei uns ab 22:00 auf. \nWir nehmen an dem Abend Reservierungen bis 20:45 an. Unsere Gäste zahlen keinen Eintritt.\nAlle\, die sich zuhause mit der Tanzhalle aufgewärmt haben\, können sich für 8.- €  in das Samstagnacht-Fieber werfen.
URL:https://weltwirtschaft.berlin/event/dance-the-oyster-tanzhalle-in-der-weltwirtschaft/
END:VEVENT
END:VCALENDAR