BEGIN:VCALENDAR
VERSION:2.0
PRODID:-//Weltwirtschaft Restaurant, Biergarten und Kiosk der Haus der Kulturen der Welt. - ECPv6.15.20//NONSGML v1.0//EN
CALSCALE:GREGORIAN
METHOD:PUBLISH
X-WR-CALNAME:Weltwirtschaft Restaurant, Biergarten und Kiosk der Haus der Kulturen der Welt.
X-ORIGINAL-URL:https://weltwirtschaft.berlin
X-WR-CALDESC:Veranstaltungen für Weltwirtschaft Restaurant, Biergarten und Kiosk der Haus der Kulturen der Welt.
REFRESH-INTERVAL;VALUE=DURATION:PT1H
X-Robots-Tag:noindex
X-PUBLISHED-TTL:PT1H
BEGIN:VTIMEZONE
TZID:UTC
BEGIN:STANDARD
TZOFFSETFROM:+0000
TZOFFSETTO:+0000
TZNAME:UTC
DTSTART:20220101T000000
END:STANDARD
END:VTIMEZONE
BEGIN:VEVENT
DTSTART;TZID=UTC:20231007T130000
DTEND;TZID=UTC:20231007T173000
DTSTAMP:20260421T181104
CREATED:20231002T065106Z
LAST-MODIFIED:20231002T065106Z
UID:3497-1696683600-1696699800@weltwirtschaft.berlin
SUMMARY:Zieleinlauf | Quer durch Berlin
DESCRIPTION:Die Langstrecken – Ruderregatta „Quer durch Berlin“ hat ihren Zieleinlauf auf der Spree vor dem Haus der Kulturen der Welt. \nWir begrüßen alle Teilnehmenden\, deren Freunde und Familie im Biergarten – es wird voll! \nLasst Euch von der Stimmung anstecken\, bejubelt die Sieger:innen und erlebt vielleicht das letzte Mal Hochbetrieb im Biergarten für dieses Jahr.
URL:https://weltwirtschaft.berlin/event/zieleinlauf-quer-durch-berlin/
END:VEVENT
END:VCALENDAR