BEGIN:VCALENDAR
VERSION:2.0
PRODID:-//Weltwirtschaft Restaurant, Biergarten und Kiosk der Haus der Kulturen der Welt. - ECPv6.15.20//NONSGML v1.0//EN
CALSCALE:GREGORIAN
METHOD:PUBLISH
X-ORIGINAL-URL:https://weltwirtschaft.berlin
X-WR-CALDESC:Veranstaltungen für Weltwirtschaft Restaurant, Biergarten und Kiosk der Haus der Kulturen der Welt.
REFRESH-INTERVAL;VALUE=DURATION:PT1H
X-Robots-Tag:noindex
X-PUBLISHED-TTL:PT1H
BEGIN:VTIMEZONE
TZID:UTC
BEGIN:STANDARD
TZOFFSETFROM:+0000
TZOFFSETTO:+0000
TZNAME:UTC
DTSTART:20220101T000000
END:STANDARD
END:VTIMEZONE
BEGIN:VEVENT
DTSTART;VALUE=DATE:20231222
DTEND;VALUE=DATE:20240113
DTSTAMP:20260421T131225
CREATED:20231219T145742Z
LAST-MODIFIED:20231219T145742Z
UID:3891-1703203200-1705103999@weltwirtschaft.berlin
SUMMARY:Bodenarbeiten im Restaurant
DESCRIPTION:Wir nutzen die etwas ruhigere Zeit zwischen den Jahren\, um einen Wasserschaden zu beheben.\nVom 22. Dezember bis zum 12. Januar bleibt unser Restaurant geschlossen. \nIm HKW sind wir ab dem 10. Januar mit einer Bar im Garderobenfoyer am Start.
URL:https://weltwirtschaft.berlin/event/bodenarbeiten-im-restaurant/
END:VEVENT
BEGIN:VEVENT
DTSTART;VALUE=DATE:20240110
DTEND;VALUE=DATE:20240113
DTSTAMP:20260421T131225
CREATED:20231219T142835Z
LAST-MODIFIED:20231219T142835Z
UID:3889-1704844800-1705103999@weltwirtschaft.berlin
SUMMARY:Kaffee\, Kuchen & Snacks in der Foyerbar
DESCRIPTION:Während der Bauarbeiten bei uns im Restaurant haben wir für euch in der kleinen Bar im Garderoben-Foyer des HKW geöffnet.\nDort gibt es von 12:00 bis 18:00 Kuchen\, Sbnacks\, Kaffeespezialitäten und kalte Getränke.
URL:https://weltwirtschaft.berlin/event/kaffee-kuchen-snacks-in-der-foyerbar/
END:VEVENT
BEGIN:VEVENT
DTSTART;TZID=UTC:20240127T220000
DTEND;TZID=UTC:20240128T020000
DTSTAMP:20260421T131225
CREATED:20231221T141557Z
LAST-MODIFIED:20240108T162552Z
UID:3927-1706392800-1706407200@weltwirtschaft.berlin
SUMMARY:DANCE THE OYSTERAnnika Line Trost legt nach der Tanzhalle auf
DESCRIPTION:Dance the Oyster – Ausgabe#1 2024  \nIm Anschluss an Ihre Radiosendung Tanzhalle legt Annika Line Trost wieder bei uns auf!\nFreut euch auf Tanzbares\, kreuz und quer durch alle Genres und Zeiten (kleiner Rückblick hier). \nWir nehmen an dem Abend Dinner-Reservierungen bis 20:45 an. Unsere Gäste zahlen keinen Eintritt.\n\nAlle\, die sich zuhause mit der Tanzhalle aufgewärmt haben\, können sich für 8.- €  in das Samstagnacht-Fieber werfen.\n 
URL:https://weltwirtschaft.berlin/event/dance-the-oyster-annika-line-trost-legt-nach-der-tanzhalle-auf/
ATTACH;FMTTYPE=image/jpeg:https://weltwirtschaft.berlin/wp-content/uploads/2023/12/THWW_Oyster_2024_A2-Kopie.jpeg
END:VEVENT
END:VCALENDAR